BEGIN:VCALENDAR
VERSION:2.0
PRODID:-//Tukios.com/
BEGIN:VEVENT
UID:e6a229ca-eea0-4f8a-aaf0-eab8c12af55e@www.rossiditorofuneralhome.com
DTSTAMP:20260424T235242Z
DTSTART:20260429T200000Z
DTEND:20260429T220000Z
SUMMARY:Calling Hours
DESCRIPTION:
URL:https://www.rossiditorofuneralhome.com/obituaries/victor-nava
LOCATION: 501 Union St  Schenectady NY 12305
GEO:42.8162892;-73.9386227
END:VEVENT
END:VCALENDAR