BEGIN:VCALENDAR
VERSION:2.0
PRODID:-//Tukios.com/
BEGIN:VEVENT
UID:388191c0-c8fe-4df1-8b2c-5affbc49ad0b@www.rossiditorofuneralhome.com
DTSTAMP:20260421T003347Z
DTSTART:20260424T161500Z
DTEND:20260424T171500Z
SUMMARY:Interment
DESCRIPTION:
URL:https://www.rossiditorofuneralhome.com/obituaries/nancy-lecce
LOCATION: 27 Glenridge Road  Schenectady NY 12302
GEO:42.8685132;-73.9242517
END:VEVENT
END:VCALENDAR