BEGIN:VCALENDAR
VERSION:2.0
PRODID:-//Tukios.com/
BEGIN:VEVENT
UID:3626d3b8-45e6-4b71-afb1-a22058ee878c@www.rossiditorofuneralhome.com
DTSTAMP:20260421T003209Z
DTSTART:20260424T150000Z
DTEND:20260424T160000Z
SUMMARY:Mass of Christian Burial
DESCRIPTION:
URL:https://www.rossiditorofuneralhome.com/obituaries/nancy-lecce
LOCATION: 331 Seward Place  Schenectady  12305
GEO:42.8202578;-73.9317111
END:VEVENT
END:VCALENDAR