BEGIN:VCALENDAR
VERSION:2.0
PRODID:-//Tukios.com/
BEGIN:VEVENT
UID:d64f0005-fdae-4bf1-9f64-23260bce4e8b@www.rossiditorofuneralhome.com
DTSTAMP:20260421T003235Z
DTSTART:20260424T133000Z
DTEND:20260424T150000Z
SUMMARY:Calling Hours
DESCRIPTION:
URL:https://www.rossiditorofuneralhome.com/obituaries/nancy-lecce
LOCATION: 331 Seward Place  Schenectady  12305
GEO:42.8202578;-73.9317111
END:VEVENT
END:VCALENDAR